BEGIN:VCALENDAR
VERSION:2.0
PRODID:-//hacksw/handcal//NONSGML v1.0//EN
CALSCALE:GREGORIAN
BEGIN:VEVENT
ORGANIZER;CN=Lennox:MAILTO:no-reply@mail.gcs-web.com
DTEND:
UID:e9fa2d18-a0b1-41d2-8756-8a786630e0af
DTSTAMP:1776963445
LOCATION:https://edge.media-server.com/mmc/p/6mbmukcn/
DESCRIPTION:Event Details https://investor.lennox.com/events/event-details/q1-2026-lennox-earnings-conference-call\n\nWebcast: https://edge.media-server.com/mmc/p/6mbmukcn/
URL;VALUE=URI:https://edge.media-server.com/mmc/p/6mbmukcn/
SUMMARY:Lennox - Q1 2026 Lennox Earnings Conference Call
DTSTART:20260429T133000Z
END:VEVENT
END:VCALENDAR